Workbook
Name 부처명: [1]구분!$G$2:$G$22
Name 부처명: #REF!
Name 사업구분: [1]구분!$I$2:$I$7
Name 사업구분: 구분2!$P$7:$P$12
Name 재원: 구분2!$G$7:$G$25
Name 재원구분: 구분2!$J$7:$J$65
Name 참여형태: [1]구분!$B$2:$B$6
Name 참여형태: 구분2!$N$7:$N$9
Name 협약구분: [1]구분!$K$2:$K$3

Sheet 제안서 제출 신청서
B3: 제안서(연구계획서) 제출 신청서
B4: 1. 제출마감일 | H4: 2. 사업구분
B5: 3. 보안과제현황 | E5: =IF(AND(J4="국가연구개발사업",B5="3. 보안과제현황"),"보안과제","") | I5: =IF(AND(J4>0),"일반과제","")
B6: 4. 지원기관 | J6: 5. 재 원
B7: 6. 사 업 명
B8: 7. 과 제 명
B9: 8. 연구책임자 | C9: 소속(학부/과) | I9: 성 명
B10: 9. 참여형태 | G10: =IF(C10=구분2!N7,"주관기관",IF(C10=구분2!N8,"주관기관",IF(C10=구분2!N9,"위탁기관","참여기관"))) -> 위탁기관 | I10: =IF(C10="주관연구개발기관","상명대학교 천안산학협력단",IF(C10="위탁연구개발기관",C6,""))
B11: 10. 연구기간 | C11: 연구시작일 | E11: 연구종료일 | G11: 개월수 | I11: 11. 총사업비(협동연구비 등 포함)
B12: 10-1. 총연구기간 | G12: =IF(OR(E12="", C12=""), "총 개월", (YEAR(E12)-YEAR(C12))*12+MONTH(E12)-MONTH(C12)+(DAY(E12)-DAY(C12))/30) -> 총 개월 | I12: 11-1. 총사업비
B13: 10-2. 당해 연구기간 | G13: =IF(OR(E13="", C13=""), "총 개월", (YEAR(E13)-YEAR(C13))*12+MONTH(E13)-MONTH(C13)+(DAY(E13)-DAY(C13))/30) -> 총 개월 | I13: 11-2. 당해 사업비
B14: 12. 당해연도 중앙관리 연구비 예산 | C14: 가. 인건비 | I14: 바. 연구수당
C15: 나. 학생인건비 | I15: 사. 위탁연구개발비
C16: 다. 연구시설·장비비 | I16: 아. 간접비(일반관리비)
C17: 라. 연구재료비 | I17: 소 계 | L17: =IF(SUM(F14:H18,L14:N16)=0, "", SUM(F14:H18,L14:N16))
C18: 마. 연구활동비
C19: 직접비 대비 간접비율 | G19: =IF(SUM(F14:H18,L14:N15)=0, " %", L16/SUM(F14:H18,L14:N15)) -> % | I19: 총액 대비 간접비율 | M19: =IF(SUM(F14:H18,L14:N15)=0, " %", L16/SUM(F14:H18,L14:N16)) -> %
C20: 자. 부가가치세 | I20: 합 계 | L20: =IF(SUM(L17:N18,F20)=0,"",SUM(L17:N18,F20))
C21: =IF(G19=" %", "※ 우리산단은 간접경비가 최대 인건비+직접비의 30%로 승인된 기관입니다. 30%미만인 과제는 간접경비 책정을 증빙할 근거서류(공문)를 첨부하여 주시기 바랍니다.", IF(G19<30%, "※ 간접비율이 30%미만입니다. 간접경비 책정을 증빙할 근거서류(공문)을 첨부하여 주시기 바랍니다.", IF(G19>=30%, "※ 우리산단은 간접경비가 최대 인건비+직접비의 30%로 승인된 기관입니다.", "입력 오류"))) -> ※ 우리산단은 간접경비가 최대 인건비+직접비의 30%로 승인된 기관입니다. 30%미만인 과제는 간접경비 책정을 증빙할 근거서류(공문)를 첨부하여 주시기 바랍니다.
B22: 13. 간접비책정근거
B23: 14. 지원기관 제출서류
G24: 기타 서류
B25: 15. 제출방법 | J25: 방법
C26: 전자입찰일시 | E26: 년 월 일 시 분 | J26: ※전자입찰시 연구책임자가 산학협력단에 직접 방문하셔야 합니다.
B27: 본인은 지원기관 및 상명대학교(산학협력단)의 제규정(기준)을 준수하여 제안서(연구계획서)를 작성하였음을 확약하며 제안서(연구계획서) 제출을 신청합니다.
B28: 붙임 | C28: 1. 제안서(연구계획서) 1부.
C29: 2. 사업공고문 1부.
B31: =IF(K9<>"",CONCATENATE(YEAR(TODAY()),"년 ",MONTH(TODAY()),"월 ",DAY(TODAY()),"일"),"20 년 월 일") -> 20 년 월 일
I33: 신청인: | J33: =IF(K9="","",K9) | M33: (인)
B35: 상명대학교 천안산학협력단장 귀하

Sheet 학술(기술)연구 수행확인서
A3: 학술(기술)연구용역 수행(예정) 확인서
A5: 연구 개요 | B5: 용역명 | C5: =IF('제안서 제출 신청서'!C8=0,"",'제안서 제출 신청서'!C8)
B6: 지원기관 | C6: =IF('제안서 제출 신청서'!C6=0,"",'제안서 제출 신청서'!C6)
B7: 연구책임자 | C7: =IF('제안서 제출 신청서'!K9=0,"",'제안서 제출 신청서'!K9)
B8: 과제수행기간 | C8: =IF('제안서 제출 신청서'!C13:D13=0,"20 . . .",'제안서 제출 신청서'!C13:D13) -> 20 . . . | D8: ~ | E8: =IF('제안서 제출 신청서'!E13:F13=0,"20 . . .",'제안서 제출 신청서'!E13:F13) -> 20 . . .
B9: 총연구비 | C9: ='제안서 제출 신청서'!K12 -> 0
B10: 당해연구비 | C10: ='제안서 제출 신청서'!K13 -> 0
A11: 연구 내용 | B11: 연구 성격 | C11: 새로운 학술(기술) 개발을 위한 | D11: 입력(클릭)
B12: 연구 개요
A15: 본 학술(기술) 연구용역은 상기와 같이 부가가치세법 시행규칙 제32조에 부합하는 연구로서 연구비 집행시 부가세 면제 사업임을 확인하며, 면세집행에 따른 책임을 다 할 것을 확약합니다.
E17: =IF(C5="","20 . . ",TODAY()) -> 20 . .
E19: ="연 구 책 임 자 : "&IF(C7=""," ",C7)&" (인)" -> 연 구 책 임 자 : (인)
A22: 상명대학교 천안산학협력단장 귀하
B49: 입력(클릭)
B50: 새로운 이론 연구
B51: 새로운 방법 연구
B52: 새로운 공법 연구
B53: 새로운 공식 연구

Sheet 간접비계산공식
A2: 간접비 고시율 | B2: 0.29
A5: 총연구비 | B5: 간접비 계상액 (천원미만 절사) | C5: 계산공식 간접비 (천원미만 절사전) | D5: 순수연구비 | E5: 실제 간접비율
A6: 90000000 | B6: =ROUNDDOWN(A6-A6/(1+B2),-3) -> 20232000 | C6: =A6-A6/(1+B2) -> 20232558 | D6: =A6-B6 -> 69768000 | E6: =B6/D6 -> 0.28998968

Sheet 구분2
A1: 결 재 | B1: 담 당 | C1: 주임/과장 | D1: 팀 장 | E1: 부단장 | F1: 처장/단장
B6: 입력(클릭) | G6: 재원 | I6: 순번 | J6: 재원구분 | N6: 참여형태 | P6: 사업구분
B7: 새로운 이론 연구 | I7: 000-00-01 | J7: [기타/지자체] | N7: 주관연구개발기관 | P7: 국가연구개발사업
B8: 새로운 방법 연구 | I8: 000-00-02 | J8: [민간/산업체] | N8: 공동연구개발기관 | P8: 학술연구지원사업
B9: 새로운 공법 연구 | I9: 000-00-03 | J9: [비영리기관] | P9: (일반)연구용역사업
B10: 새로운 공식 연구 | I10: 001-03 | J10: 기획재정부 | P10: 위탁연구(운영)사업
G11: 기타 | I11: 001-03-01 | J11: 기획재정부_ 국세청 | P11: 교육사업
I12: 001-03-02 | J12: 기획재정부_ 관세청 | P12: 기타사업
I13: 001-03-03 | J13: 기획재정부_ 조달청
I14: 001-03-04 | J14: 기획재정부_ 통계청
I15: 001-04 | J15: 교육부
I16: 001-05 | J16: 과학기술정보통신부
G17: 민간/산업체 | I17: 001-06 | J17: 외교부
I18: 001-07 | J18: 통일부
I19: 001-08 | J19: 법무부
G20: 비영리기관 | I20: 001-08-01 | J20: 법무부_ 검찰청
I21: 001-09 | J21: 국방부
I22: 001-09-01 | J22: 국방부_ 병무청
I23: 001-09-02 | J23: 국방부_ 방위사업청
I24: 001-10 | J24: 행정안전부
I25: 001-10-01 | J25: 행정안전부_ 경찰청
I26: 001-10-02 | J26: 행정안전부_ 소방청
I27: 001-11 | J27: 문화체육관광부
I28: 001-11-01 | J28: 문화체육관광부_ 문화재청
I29: 001-12 | J29: 농림축산식품부
I30: 001-12-01 | J30: 농림축산식품부_ 농촌진흥청
I31: 001-12-02 | J31: 농림축산식품부_ 산림청
I32: 001-13 | J32: 산업통상자원부
... I65: 003-02-10 | J65: 국민권익위원회

Sheet Sheet1
