Workbook

Sheet 안내문
A1: 지 급 신 청 서 | AB1: 실명확인 | AE1: 검토자 | AH1: 결재권자
A3: 거래외국환은행지정신청서
A5: 기존송금번호 | M5: 고객번호
A6: ※ 당행을 통하여 과거 수취인에게 송금한 내역이 존재할 경우 상기 기존송금번호를 추가로 기재하시면 보다 빠른 업무처리가 가능합니다.
A7: 우리은행 앞 | J7: 년 월 일
A8: 신청인 | C8: 영문 성명(또는 상호) (Applicant) | L8: SANGMYUNG UNIVERSITY | AC8: 국 적 Nationality | AF8: KOREA
C10: 주민번호,사업자번호,여권번호 R.I.N & B.I.N & Passport No | L10: 102-82-01669 | W10: E-mail
C11: 주 소 (Address in Korea) | I11: □ 자택 □ 직장 ▣ 본점 | L11: SANGMYUNG UNIVERSITY, 20 Hongjimun 2-gil, Jongno-gu, Seoul 03016, Korea | AC11: TEL:
C12: 실제당사자 여부 | I12: ※자금 실소유자 여부 ▣ 예 □ 아니오 | S12: 주사업장 | V12: (TEL: )
C13: 영리법인(업종) 비영리/기타단체(설립목적) | O13: 대표자 | S13: 성 명 주민등록번호 | AC13: 최대 주주
C14: ※신청인이 법인 또는 단체인 경우 주사업장,업종(설립목적), 대표자 성명 및 주민등록번호, 최대주주를 추가로 기재하셔야 합니다.
A15: 지 정 신 청 내 용 | C15: 지정여부 | F15: □ 기 지정 완료 □ 신규 지정 요망 | K15: 지정거래 당사자 | M15: □ 신청인과 동일함 | T15: 성 명(또는 상호) | AA15: 주민(사업자)번호,여권번호
T17: ※ "신청인과 동일함"에 체크할 경우 기재하실 필요가 없습니다.
C18: 지정항목
F19: □01(거주자의 지급증빙미제출 지급) □02(해외유학생(해외체재자)경비) □08(외국인등의 급여등 지급)
F20: □63(재외동포 국내재산반출) □75(해외이주비)
F22: 상기 체크항목에 대하여 귀행을 거래외국환은행으로 지정하고자 하오니 확인하여 주시기 바랍니다.
A24: 송 금 신 청 내 용 | C24: 통 화 (Currency) | K24: 금 액 (Amount) | V24: 지 급 방 법 | AA24: □여행자수표(T/C) □기타
C25: ※ 이란, 북한 등 송금제한 국가와의 교역과 관련된 제3국 송금(중계무역 등)인 경우 USD 포함한 모든 통화의 거래가 불가합니다.
C26: 현지수취통화(Currency) | K26: 현지수취금액 (Amount) | V26: 결제은행 수수료부담(Charge) | AA26: □ 수취인(Beneficiary) □ 신청인(Applicant)
C27: ※ W-FX 이종통화송금서비스 또는 위안화 송금시 기재하여 주시기 바랍니다. 단, 당행이 고지한 현지수취 금액은 미확정 금액이며, 중계은행 및 수취은행이 적용하는 환율의 변경에 따라 달라질 수 있습니다.
C28: 송금방법 (Send by) | G28: ▣ 해외송금(□ 무계좌송금 □ 인도네시아 통신사 송금) □ 국내이체(수취인계좌구분:□ 거주자계정 □ 대외계정) □ 송금수표(□ DD □ CRS □ WACHS)
G29: ※ 인도네시아 통신사 송금의 경우, 모바일지갑 내 전자화폐(E-MONEY) 형태로 송금됩니다.
C30: 지 급 사 유 (거래목적)
G31: ※ 송금(여행자수표 구입후 지급 포함)하시고자 하는 경우 지급사유(거래목적)를 구체적으로 기재하셔야 합니다.
C32: 수취인 (Beneficiary) | G32: 성명(Name) | AC32: 신청인과 의 관계
G33: 주 소(Address) | AC33: TEL:
L34: ※ 무계좌송금의 경우, 수취인 연락처, ID No. 등을 추가로 기재하셔야 합니다.
C35: 수취인 거래은행 (BNF'S Bank) | G35: 은행명,지점명,주소 (Bank Name,Branch Name,Address) | L35: 은행명, 지점명 기재 | AC35: TEL:
L36: 은행주소 기재 | AC36: 수취국가
G37: 국가별은행코드 (ABA NO.등) | L37: SWIFT NO :
L38: ※ 미국(ABA NO.9자리), 뉴질랜드.호주(BSB NO.6자리), 캐나다(TRANSIT NO.8자리)를 추가로 기재하셔야 합니다.
G39: 수취인계좌(BNF'S A/C No.)
L40: ※ 인도네시아 통신사 송금의 경우, 통신사명과 휴대폰번호를 기재하셔야 합니다.
L41: ※ IBAN CODE로 송금 시, 수취은행에서 수취인명 확인없이 CODE상 계좌로 자동 입금되는 경우가 있으므로,
L42: 해킹 등에 의한 사기방지를 위해 반드시 수취인측에 전화 등으로 IBAN CODE를 명확히 확인하시기 바랍니다.
C43: 사후송금방식 수입의 경우 기재 | L43: 수입신고서 번호 | U43: 품목(H.S. Code) | AB43: 가격조건 | AF43: 수입용도
A45: □ 본 송금의 이란, 북한 등 송금제한 국가와의 교역과 관련된 제3국 송금(중계무역 등) 여부 □ YES ▣ NO
A46: □ 상기 내용을 전자금융(자동화기기/인터넷/모바일) 해외송금을 위한 송금정보로 등록/변경/해지할 것을 신청합니다.
A47: 본인은 귀행 영업점에 비치된 외환거래 기본약관을 열람하고 그 내용에 따른 것을 확약합니다.
A48: I/We hereby acknowledge my/our perusal of the General Terms and Conditions of Foreign Exchange
A49: Transactions kept at your bank's and agree to abide by them. | AC49: ※지급입증서류 확인필
A50: 중국위안화에 의한 거래시에는 현지 정책에 따라 거래 제한(용도 및 대상기업에 따른 제한 포함)이 될 수 있음을 인지하였으며, 이로 말미암은 문제에 대해서는 당사에 책임이 있음을 확약합니다. | AD50: 직급, 성명 | AH50: 확인 인
A51: ※ 본 송금은 이란, 북한 등 송금제한 국가와의 교역과 관련된 제3국 송금(중계무역 등)이 아님을 확약합니다.
C52: 신 청 인(Applicant) | K52: SANGMYUNG UNIVERSITY | U52: (인 또는 서명)
C54: 대 리 인(Agent) | U54: (인 또는 서명)
C56: 대리인(Agent)주민(여권)번호 (R.I.N & Passport No.) :
A57: 이 신청서는 외국환 통계자료로 활용하며 과세자료로 국세청에 통보될 수 있습니다.
A58: 신청인의 주소정보는 국제간 자금세탁 및 테러자금 방지를 위해 송금수취은행에 제공됩니다.
C59: 위 거래외국환은행 지정사실을 확인함. | U59: 지정확인번호
E60: 년 월 일 | U60: 지 정 일 자
E61: 우 리 은 행 장 (인) | AF61: 인감 및 원본확인
A63: *본 신청서는 대외지급수단의 휴대반출에 따른 근거서류로 활용할 수 없습니다.
K65: 외환공통(401054, 210×297) 백상지 70g/㎡ (2018.3. 개정)

Sheet Sheet1
A1: 지 급 신 청 서 | AB1: 실명확인 | AE1: 검토자 | AH1: 결재권자
A3: 거래외국환은행지정신청서
A5: 기존송금번호 | M5: 고객번호
A6: ※ 당행을 통하여 과거 수취인에게 송금한 내역이 존재할 경우 상기 기존송금번호를 추가로 기재하시면 보다 빠른 업무처리가 가능합니다.
A7: 우리은행 앞 | J7: 년 월 일
A8: 신청인 | C8: 영문 성명(또는 상호) (Applicant) | L8: SANGMYUNG UNIVERSITY | AC8: 국 적 Nationality | AF8: KOREA
C10: 주민번호,사업자번호,여권번호 R.I.N & B.I.N & Passport No | L10: 102-82-01669 | W10: E-mail
C11: 주 소 (Address in Korea) | I11: □ 자택 □ 직장 ▣ 본점 | L11: SANGMYUNG UNIVERSITY, 20 Hongjimun 2-gil, Jongno-gu, Seoul 03016, Korea | AC11: TEL:
C12: 실제당사자 여부 | I12: ※자금 실소유자 여부 ▣ 예 □ 아니오 | S12: 주사업장 | V12: (TEL: )
C13: 영리법인(업종) 비영리/기타단체(설립목적) | O13: 대표자 | S13: 성 명 주민등록번호 | AC13: 최대 주주
C14: ※신청인이 법인 또는 단체인 경우 주사업장,업종(설립목적), 대표자 성명 및 주민등록번호, 최대주주를 추가로 기재하셔야 합니다.
A15: 지 정 신 청 내 용 | C15: 지정여부 | F15: □ 기 지정 완료 □ 신규 지정 요망 | K15: 지정거래 당사자 | M15: □ 신청인과 동일함 | T15: 성 명(또는 상호) | AA15: 주민(사업자)번호,여권번호
T17: ※ "신청인과 동일함"에 체크할 경우 기재하실 필요가 없습니다.
C18: 지정항목
F19: □01(거주자의 지급증빙미제출 지급) □02(해외유학생(해외체재자)경비) □08(외국인등의 급여등 지급)
F20: □63(재외동포 국내재산반출) □75(해외이주비)
F22: 상기 체크항목에 대하여 귀행을 거래외국환은행으로 지정하고자 하오니 확인하여 주시기 바랍니다.
A24: 송 금 신 청 내 용 | C24: 통 화 (Currency) | K24: 금 액 (Amount) | V24: 지 급 방 법 | AA24: □여행자수표(T/C) □기타
C25: ※ 이란, 북한 등 송금제한 국가와의 교역과 관련된 제3국 송금(중계무역 등)인 경우 USD 포함한 모든 통화의 거래가 불가합니다.
C26: 현지수취통화(Currency) | K26: 현지수취금액 (Amount) | V26: 결제은행 수수료부담(Charge) | AA26: □ 수취인(Beneficiary) □ 신청인(Applicant)
C27: ※ W-FX 이종통화송금서비스 또는 위안화 송금시 기재하여 주시기 바랍니다. 단, 당행이 고지한 현지수취 금액은 미확정 금액이며, 중계은행 및 수취은행이 적용하는 환율의 변경에 따라 달라질 수 있습니다.
C28: 송금방법 (Send by) | G28: ▣ 해외송금(□ 무계좌송금 □ 인도네시아 통신사 송금) □ 국내이체(수취인계좌구분:□ 거주자계정 □ 대외계정) □ 송금수표(□ DD □ CRS □ WACHS)
G29: ※ 인도네시아 통신사 송금의 경우, 모바일지갑 내 전자화폐(E-MONEY) 형태로 송금됩니다.
C30: 지 급 사 유 (거래목적)
G31: ※ 송금(여행자수표 구입후 지급 포함)하시고자 하는 경우 지급사유(거래목적)를 구체적으로 기재하셔야 합니다.
C32: 수취인 (Beneficiary) | G32: 성명(Name) | AC32: 신청인과 의 관계
G33: 주 소(Address) | AC33: TEL:
L34: ※ 무계좌송금의 경우, 수취인 연락처, ID No. 등을 추가로 기재하셔야 합니다.
C35: 수취인 거래은행 (BNF'S Bank) | G35: 은행명,지점명,주소 (Bank Name,Branch Name,Address) | AC35: TEL:
AC36: 수취국가
G37: 국가별은행코드 (ABA NO.등) | L37: SWIFT NO :
L38: ※ 미국(ABA NO.9자리), 뉴질랜드.호주(BSB NO.6자리), 캐나다(TRANSIT NO.8자리)를 추가로 기재하셔야 합니다.
G39: 수취인계좌(BNF'S A/C No.)
L40: ※ 인도네시아 통신사 송금의 경우, 통신사명과 휴대폰번호를 기재하셔야 합니다.
L41: ※ IBAN CODE로 송금 시, 수취은행에서 수취인명 확인없이 CODE상 계좌로 자동 입금되는 경우가 있으므로,
L42: 해킹 등에 의한 사기방지를 위해 반드시 수취인측에 전화 등으로 IBAN CODE를 명확히 확인하시기 바랍니다.
C43: 사후송금방식 수입의 경우 기재 | L43: 수입신고서 번호 | U43: 품목(H.S. Code) | AB43: 가격조건 | AF43: 수입용도
A45: □ 본 송금의 이란, 북한 등 송금제한 국가와의 교역과 관련된 제3국 송금(중계무역 등) 여부 □ YES ▣ NO
A46: □ 상기 내용을 전자금융(자동화기기/인터넷/모바일) 해외송금을 위한 송금정보로 등록/변경/해지할 것을 신청합니다.
A47: 본인은 귀행 영업점에 비치된 외환거래 기본약관을 열람하고 그 내용에 따른 것을 확약합니다.
A48: I/We hereby acknowledge my/our perusal of the General Terms and Conditions of Foreign Exchange
A49: Transactions kept at your bank's and agree to abide by them. | AC49: ※지급입증서류 확인필
A50: 중국위안화에 의한 거래시에는 현지 정책에 따라 거래 제한(용도 및 대상기업에 따른 제한 포함)이 될 수 있음을 인지하였으며, 이로 말미암은 문제에 대해서는 당사에 책임이 있음을 확약합니다. | AD50: 직급, 성명 | AH50: 확인 인
A51: ※ 본 송금은 이란, 북한 등 송금제한 국가와의 교역과 관련된 제3국 송금(중계무역 등)이 아님을 확약합니다.
C52: 신 청 인(Applicant) | K52: SANGMYUNG UNIVERSITY | U52: (인 또는 서명)
C54: 대 리 인(Agent) | U54: (인 또는 서명)
C56: 대리인(Agent)주민(여권)번호 (R.I.N & Passport No.) :
A57: 이 신청서는 외국환 통계자료로 활용하며 과세자료로 국세청에 통보될 수 있습니다.
A58: 신청인의 주소정보는 국제간 자금세탁 및 테러자금 방지를 위해 송금수취은행에 제공됩니다.
C59: 위 거래외국환은행 지정사실을 확인함. | U59: 지정확인번호
E60: 년 월 일 | U60: 지 정 일 자
E61: 우 리 은 행 장 (인) | AF61: 인감 및 원본확인
A63: *본 신청서는 대외지급수단의 휴대반출에 따른 근거서류로 활용할 수 없습니다.
K65: 외환공통(401054, 210×297) 백상지 70g/㎡ (2018.3. 개정)

Sheet Sheet2
A1: 지 급 신 청 서 | AB1: 실명확인 | AE1: 검토자 | AH1: 결재권자
A3: 거래외국환은행지정신청서
A5: 기존송금번호 | M5: 고객번호
A6: ※ 당행을 통하여 과거 수취인에게 송금한 내역이 존재할 경우 상기 기존송금번호를 추가로 기재하시면 보다 빠른 업무처리가 가능합니다.
A7: 우리은행 앞 | J7: 년 월 일
A8: 신청인 | C8: 영문 성명(또는 상호) (Applicant) | L8: SANGMYUNG UNIVERSITY | AC8: 국 적 Nationality | AF8: KOREA
C10: 주민번호,사업자번호,여권번호 R.I.N & B.I.N & Passport No | L10: 102-82-01669 | W10: E-mail
C11: 주 소 (Address in Korea) | I11: □ 자택 □ 직장 ▣ 본점 | L11: SANGMYUNG UNIVERSITY, 20 Hongjimun 2-gil, Jongno-gu, Seoul 03016, Korea | AC11: TEL:
C12: 실제당사자 여부 | I12: ※자금 실소유자 여부 ▣ 예 □ 아니오 | S12: 주사업장 | V12: (TEL: )
C13: 영리법인(업종) 비영리/기타단체(설립목적) | O13: 대표자 | S13: 성 명 주민등록번호 | AC13: 최대 주주
C14: ※신청인이 법인 또는 단체인 경우 주사업장,업종(설립목적), 대표자 성명 및 주민등록번호, 최대주주를 추가로 기재하셔야 합니다.
A15: 지 정 신 청 내 용 | C15: 지정여부 | F15: □ 기 지정 완료 □ 신규 지정 요망 | K15: 지정거래 당사자 | M15: □ 신청인과 동일함 | T15: 성 명(또는 상호) | AA15: 주민(사업자)번호,여권번호
T17: ※ "신청인과 동일함"에 체크할 경우 기재하실 필요가 없습니다.
C18: 지정항목
F19: □01(거주자의 지급증빙미제출 지급) □02(해외유학생(해외체재자)경비) □08(외국인등의 급여등 지급)
F20: □63(재외동포 국내재산반출) □75(해외이주비)
F22: 상기 체크항목에 대하여 귀행을 거래외국환은행으로 지정하고자 하오니 확인하여 주시기 바랍니다.
A24: 송 금 신 청 내 용 | C24: 통 화 (Currency) | K24: 금 액 (Amount) | V24: 지 급 방 법 | AA24: □여행자수표(T/C) □기타
C25: ※ 이란, 북한 등 송금제한 국가와의 교역과 관련된 제3국 송금(중계무역 등)인 경우 USD 포함한 모든 통화의 거래가 불가합니다.
C26: 현지수취통화(Currency) | K26: 현지수취금액 (Amount) | V26: 결제은행 수수료부담(Charge) | AA26: □ 수취인(Beneficiary) □ 신청인(Applicant)
C27: ※ W-FX 이종통화송금서비스 또는 위안화 송금시 기재하여 주시기 바랍니다. 단, 당행이 고지한 현지수취 금액은 미확정 금액이며, 중계은행 및 수취은행이 적용하는 환율의 변경에 따라 달라질 수 있습니다.
C28: 송금방법 (Send by) | G28: ▣ 해외송금(□ 무계좌송금 □ 인도네시아 통신사 송금) □ 국내이체(수취인계좌구분:□ 거주자계정 □ 대외계정) □ 송금수표(□ DD □ CRS □ WACHS)
G29: ※ 인도네시아 통신사 송금의 경우, 모바일지갑 내 전자화폐(E-MONEY) 형태로 송금됩니다.
C30: 지 급 사 유 (거래목적)
G31: ※ 송금(여행자수표 구입후 지급 포함)하시고자 하는 경우 지급사유(거래목적)를 구체적으로 기재하셔야 합니다.
C32: 수취인 (Beneficiary) | G32: 성명(Name) | AC32: 신청인과 의 관계
G33: 주 소(Address) | AC33: TEL:
L34: ※ 무계좌송금의 경우, 수취인 연락처, ID No. 등을 추가로 기재하셔야 합니다.
C35: 수취인 거래은행 (BNF'S Bank) | G35: 은행명,지점명,주소 (Bank Name,Branch Name,Address) | AC35: TEL:
AC36: 수취국가
G37: 국가별은행코드 (ABA NO.등) | L37: SWIFT NO :
L38: ※ 미국(ABA NO.9자리), 뉴질랜드.호주(BSB NO.6자리), 캐나다(TRANSIT NO.8자리)를 추가로 기재하셔야 합니다.
G39: 수취인계좌(BNF'S A/C No.)
L40: ※ 인도네시아 통신사 송금의 경우, 통신사명과 휴대폰번호를 기재하셔야 합니다.
L41: ※ IBAN CODE로 송금 시, 수취은행에서 수취인명 확인없이 CODE상 계좌로 자동 입금되는 경우가 있으므로,
L42: 해킹 등에 의한 사기방지를 위해 반드시 수취인측에 전화 등으로 IBAN CODE를 명확히 확인하시기 바랍니다.
C43: 사후송금방식 수입의 경우 기재 | L43: 수입신고서 번호 | U43: 품목(H.S. Code) | AB43: 가격조건 | AF43: 수입용도
A45: □ 본 송금의 이란, 북한 등 송금제한 국가와의 교역과 관련된 제3국 송금(중계무역 등) 여부 □ YES ▣ NO
A46: □ 상기 내용을 전자금융(자동화기기/인터넷/모바일) 해외송금을 위한 송금정보로 등록/변경/해지할 것을 신청합니다.
A47: 본인은 귀행 영업점에 비치된 외환거래 기본약관을 열람하고 그 내용에 따른 것을 확약합니다.
A48: I/We hereby acknowledge my/our perusal of the General Terms and Conditions of Foreign Exchange
A49: Transactions kept at your bank's and agree to abide by them. | AC49: ※지급입증서류 확인필
A50: 중국위안화에 의한 거래시에는 현지 정책에 따라 거래 제한(용도 및 대상기업에 따른 제한 포함)이 될 수 있음을 인지하였으며, 이로 말미암은 문제에 대해서는 당사에 책임이 있음을 확약합니다. | AD50: 직급, 성명 | AH50: 확인 인
A51: ※ 본 송금은 이란, 북한 등 송금제한 국가와의 교역과 관련된 제3국 송금(중계무역 등)이 아님을 확약합니다.
C52: 신 청 인(Applicant) | K52: SANGMYUNG UNIVERSITY | U52: (인 또는 서명)
C54: 대 리 인(Agent) | U54: (인 또는 서명)
C56: 대리인(Agent)주민(여권)번호 (R.I.N & Passport No.) :
A57: 이 신청서는 외국환 통계자료로 활용하며 과세자료로 국세청에 통보될 수 있습니다.
A58: 신청인의 주소정보는 국제간 자금세탁 및 테러자금 방지를 위해 송금수취은행에 제공됩니다.
C59: 위 거래외국환은행 지정사실을 확인함. | U59: 지정확인번호
E60: 년 월 일 | U60: 지 정 일 자
E61: 우 리 은 행 장 (인) | AF61: 인감 및 원본확인
A63: *본 신청서는 대외지급수단의 휴대반출에 따른 근거서류로 활용할 수 없습니다.
K65: 외환공통(401054, 210×297) 백상지 70g/㎡ (2018.3. 개정)

Sheet Sheet3
A1: 지 급 신 청 서 | AB1: 실명확인 | AE1: 검토자 | AH1: 결재권자
A3: 거래외국환은행지정신청서
A5: 기존송금번호 | M5: 고객번호
A6: ※ 당행을 통하여 과거 수취인에게 송금한 내역이 존재할 경우 상기 기존송금번호를 추가로 기재하시면 보다 빠른 업무처리가 가능합니다.
A7: 우리은행 앞 | J7: 년 월 일
A8: 신청인 | C8: 영문 성명(또는 상호) (Applicant) | L8: SANGMYUNG UNIVERSITY | AC8: 국 적 Nationality | AF8: KOREA
C10: 주민번호,사업자번호,여권번호 R.I.N & B.I.N & Passport No | L10: 102-82-01669 | W10: E-mail
C11: 주 소 (Address in Korea) | I11: □ 자택 □ 직장 ▣ 본점 | L11: SANGMYUNG UNIVERSITY, 20 Hongjimun 2-gil, Jongno-gu, Seoul 03016, Korea | AC11: TEL:
C12: 실제당사자 여부 | I12: ※자금 실소유자 여부 ▣ 예 □ 아니오 | S12: 주사업장 | V12: (TEL: )
C13: 영리법인(업종) 비영리/기타단체(설립목적) | O13: 대표자 | S13: 성 명 주민등록번호 | AC13: 최대 주주
C14: ※신청인이 법인 또는 단체인 경우 주사업장,업종(설립목적), 대표자 성명 및 주민등록번호, 최대주주를 추가로 기재하셔야 합니다.
A15: 지 정 신 청 내 용 | C15: 지정여부 | F15: □ 기 지정 완료 □ 신규 지정 요망 | K15: 지정거래 당사자 | M15: □ 신청인과 동일함 | T15: 성 명(또는 상호) | AA15: 주민(사업자)번호,여권번호
T17: ※ "신청인과 동일함"에 체크할 경우 기재하실 필요가 없습니다.
C18: 지정항목
F19: □01(거주자의 지급증빙미제출 지급) □02(해외유학생(해외체재자)경비) □08(외국인등의 급여등 지급)
F20: □63(재외동포 국내재산반출) □75(해외이주비)
F22: 상기 체크항목에 대하여 귀행을 거래외국환은행으로 지정하고자 하오니 확인하여 주시기 바랍니다.
A24: 송 금 신 청 내 용 | C24: 통 화 (Currency) | K24: 금 액 (Amount) | V24: 지 급 방 법 | AA24: □여행자수표(T/C) □기타
C25: ※ 이란, 북한 등 송금제한 국가와의 교역과 관련된 제3국 송금(중계무역 등)인 경우 USD 포함한 모든 통화의 거래가 불가합니다.
C26: 현지수취통화(Currency) | K26: 현지수취금액 (Amount) | V26: 결제은행 수수료부담(Charge) | AA26: □ 수취인(Beneficiary) □ 신청인(Applicant)
C27: ※ W-FX 이종통화송금서비스 또는 위안화 송금시 기재하여 주시기 바랍니다. 단, 당행이 고지한 현지수취 금액은 미확정 금액이며, 중계은행 및 수취은행이 적용하는 환율의 변경에 따라 달라질 수 있습니다.
C28: 송금방법 (Send by) | G28: ▣ 해외송금(□ 무계좌송금 □ 인도네시아 통신사 송금) □ 국내이체(수취인계좌구분:□ 거주자계정 □ 대외계정) □ 송금수표(□ DD □ CRS □ WACHS)
G29: ※ 인도네시아 통신사 송금의 경우, 모바일지갑 내 전자화폐(E-MONEY) 형태로 송금됩니다.
C30: 지 급 사 유 (거래목적)
G31: ※ 송금(여행자수표 구입후 지급 포함)하시고자 하는 경우 지급사유(거래목적)를 구체적으로 기재하셔야 합니다.
C32: 수취인 (Beneficiary) | G32: 성명(Name) | AC32: 신청인과 의 관계
G33: 주 소(Address) | AC33: TEL:
L34: ※ 무계좌송금의 경우, 수취인 연락처, ID No. 등을 추가로 기재하셔야 합니다.
C35: 수취인 거래은행 (BNF'S Bank) | G35: 은행명,지점명,주소 (Bank Name,Branch Name,Address) | AC35: TEL:
AC36: 수취국가
G37: 국가별은행코드 (ABA NO.등) | L37: SWIFT NO :
L38: ※ 미국(ABA NO.9자리), 뉴질랜드.호주(BSB NO.6자리), 캐나다(TRANSIT NO.8자리)를 추가로 기재하셔야 합니다.
G39: 수취인계좌(BNF'S A/C No.)
L40: ※ 인도네시아 통신사 송금의 경우, 통신사명과 휴대폰번호를 기재하셔야 합니다.
L41: ※ IBAN CODE로 송금 시, 수취은행에서 수취인명 확인없이 CODE상 계좌로 자동 입금되는 경우가 있으므로,
L42: 해킹 등에 의한 사기방지를 위해 반드시 수취인측에 전화 등으로 IBAN CODE를 명확히 확인하시기 바랍니다.
C43: 사후송금방식 수입의 경우 기재 | L43: 수입신고서 번호 | U43: 품목(H.S. Code) | AB43: 가격조건 | AF43: 수입용도
A45: □ 본 송금의 이란, 북한 등 송금제한 국가와의 교역과 관련된 제3국 송금(중계무역 등) 여부 □ YES ▣ NO
A46: □ 상기 내용을 전자금융(자동화기기/인터넷/모바일) 해외송금을 위한 송금정보로 등록/변경/해지할 것을 신청합니다.
A47: 본인은 귀행 영업점에 비치된 외환거래 기본약관을 열람하고 그 내용에 따른 것을 확약합니다.
A48: I/We hereby acknowledge my/our perusal of the General Terms and Conditions of Foreign Exchange
A49: Transactions kept at your bank's and agree to abide by them. | AC49: ※지급입증서류 확인필
A50: 중국위안화에 의한 거래시에는 현지 정책에 따라 거래 제한(용도 및 대상기업에 따른 제한 포함)이 될 수 있음을 인지하였으며, 이로 말미암은 문제에 대해서는 당사에 책임이 있음을 확약합니다. | AD50: 직급, 성명 | AH50: 확인 인
A51: ※ 본 송금은 이란, 북한 등 송금제한 국가와의 교역과 관련된 제3국 송금(중계무역 등)이 아님을 확약합니다.
C52: 신 청 인(Applicant) | K52: SANGMYUNG UNIVERSITY | U52: (인 또는 서명)
C54: 대 리 인(Agent) | U54: (인 또는 서명)
C56: 대리인(Agent)주민(여권)번호 (R.I.N & Passport No.) :
A57: 이 신청서는 외국환 통계자료로 활용하며 과세자료로 국세청에 통보될 수 있습니다.
A58: 신청인의 주소정보는 국제간 자금세탁 및 테러자금 방지를 위해 송금수취은행에 제공됩니다.
C59: 위 거래외국환은행 지정사실을 확인함. | U59: 지정확인번호
E60: 년 월 일 | U60: 지 정 일 자
E61: 우 리 은 행 장 (인) | AF61: 인감 및 원본확인
A63: *본 신청서는 대외지급수단의 휴대반출에 따른 근거서류로 활용할 수 없습니다.
K65: 외환공통(401054, 210×297) 백상지 70g/㎡ (2018.3. 개정)

Sheet Sheet4
A1: 지 급 신 청 서 | AB1: 실명확인 | AE1: 검토자 | AH1: 결재권자
A3: 거래외국환은행지정신청서
A5: 기존송금번호 | M5: 고객번호
A6: ※ 당행을 통하여 과거 수취인에게 송금한 내역이 존재할 경우 상기 기존송금번호를 추가로 기재하시면 보다 빠른 업무처리가 가능합니다.
A7: 우리은행 앞 | J7: 년 월 일
A8: 신청인 | C8: 영문 성명(또는 상호) (Applicant) | L8: SANGMYUNG UNIVERSITY | AC8: 국 적 Nationality | AF8: KOREA
C10: 주민번호,사업자번호,여권번호 R.I.N & B.I.N & Passport No | L10: 102-82-01669 | W10: E-mail
C11: 주 소 (Address in Korea) | I11: □ 자택 □ 직장 ▣ 본점 | L11: SANGMYUNG UNIVERSITY, 20 Hongjimun 2-gil, Jongno-gu, Seoul 03016, Korea | AC11: TEL:
C12: 실제당사자 여부 | I12: ※자금 실소유자 여부 ▣ 예 □ 아니오 | S12: 주사업장 | V12: (TEL: )
C13: 영리법인(업종) 비영리/기타단체(설립목적) | O13: 대표자 | S13: 성 명 주민등록번호 | AC13: 최대 주주
C14: ※신청인이 법인 또는 단체인 경우 주사업장,업종(설립목적), 대표자 성명 및 주민등록번호, 최대주주를 추가로 기재하셔야 합니다.
A15: 지 정 신 청 내 용 | C15: 지정여부 | F15: □ 기 지정 완료 □ 신규 지정 요망 | K15: 지정거래 당사자 | M15: □ 신청인과 동일함 | T15: 성 명(또는 상호) | AA15: 주민(사업자)번호,여권번호
T17: ※ "신청인과 동일함"에 체크할 경우 기재하실 필요가 없습니다.
C18: 지정항목
F19: □01(거주자의 지급증빙미제출 지급) □02(해외유학생(해외체재자)경비) □08(외국인등의 급여등 지급)
F20: □63(재외동포 국내재산반출) □75(해외이주비)
F22: 상기 체크항목에 대하여 귀행을 거래외국환은행으로 지정하고자 하오니 확인하여 주시기 바랍니다.
A24: 송 금 신 청 내 용 | C24: 통 화 (Currency) | K24: 금 액 (Amount) | V24: 지 급 방 법 | AA24: □여행자수표(T/C) □기타
C25: ※ 이란, 북한 등 송금제한 국가와의 교역과 관련된 제3국 송금(중계무역 등)인 경우 USD 포함한 모든 통화의 거래가 불가합니다.
C26: 현지수취통화(Currency) | K26: 현지수취금액 (Amount) | V26: 결제은행 수수료부담(Charge) | AA26: □ 수취인(Beneficiary) □ 신청인(Applicant)
C27: ※ W-FX 이종통화송금서비스 또는 위안화 송금시 기재하여 주시기 바랍니다. 단, 당행이 고지한 현지수취 금액은 미확정 금액이며, 중계은행 및 수취은행이 적용하는 환율의 변경에 따라 달라질 수 있습니다.
C28: 송금방법 (Send by) | G28: ▣ 해외송금(□ 무계좌송금 □ 인도네시아 통신사 송금) □ 국내이체(수취인계좌구분:□ 거주자계정 □ 대외계정) □ 송금수표(□ DD □ CRS □ WACHS)
G29: ※ 인도네시아 통신사 송금의 경우, 모바일지갑 내 전자화폐(E-MONEY) 형태로 송금됩니다.
C30: 지 급 사 유 (거래목적)
G31: ※ 송금(여행자수표 구입후 지급 포함)하시고자 하는 경우 지급사유(거래목적)를 구체적으로 기재하셔야 합니다.
C32: 수취인 (Beneficiary) | G32: 성명(Name) | AC32: 신청인과 의 관계
G33: 주 소(Address) | AC33: TEL:
L34: ※ 무계좌송금의 경우, 수취인 연락처, ID No. 등을 추가로 기재하셔야 합니다.
C35: 수취인 거래은행 (BNF'S Bank) | G35: 은행명,지점명,주소 (Bank Name,Branch Name,Address) | AC35: TEL:
AC36: 수취국가
G37: 국가별은행코드 (ABA NO.등) | L37: SWIFT NO :
L38: ※ 미국(ABA NO.9자리), 뉴질랜드.호주(BSB NO.6자리), 캐나다(TRANSIT NO.8자리)를 추가로 기재하셔야 합니다.
G39: 수취인계좌(BNF'S A/C No.)
L40: ※ 인도네시아 통신사 송금의 경우, 통신사명과 휴대폰번호를 기재하셔야 합니다.
L41: ※ IBAN CODE로 송금 시, 수취은행에서 수취인명 확인없이 CODE상 계좌로 자동 입금되는 경우가 있으므로,
L42: 해킹 등에 의한 사기방지를 위해 반드시 수취인측에 전화 등으로 IBAN CODE를 명확히 확인하시기 바랍니다.
C43: 사후송금방식 수입의 경우 기재 | L43: 수입신고서 번호 | U43: 품목(H.S. Code) | AB43: 가격조건 | AF43: 수입용도
A45: □ 본 송금의 이란, 북한 등 송금제한 국가와의 교역과 관련된 제3국 송금(중계무역 등) 여부 □ YES ▣ NO
A46: □ 상기 내용을 전자금융(자동화기기/인터넷/모바일) 해외송금을 위한 송금정보로 등록/변경/해지할 것을 신청합니다.
A47: 본인은 귀행 영업점에 비치된 외환거래 기본약관을 열람하고 그 내용에 따른 것을 확약합니다.
A48: I/We hereby acknowledge my/our perusal of the General Terms and Conditions of Foreign Exchange
A49: Transactions kept at your bank's and agree to abide by them. | AC49: ※지급입증서류 확인필
A50: 중국위안화에 의한 거래시에는 현지 정책에 따라 거래 제한(용도 및 대상기업에 따른 제한 포함)이 될 수 있음을 인지하였으며, 이로 말미암은 문제에 대해서는 당사에 책임이 있음을 확약합니다. | AD50: 직급, 성명 | AH50: 확인 인
A51: ※ 본 송금은 이란, 북한 등 송금제한 국가와의 교역과 관련된 제3국 송금(중계무역 등)이 아님을 확약합니다.
C52: 신 청 인(Applicant) | K52: SANGMYUNG UNIVERSITY | U52: (인 또는 서명)
C54: 대 리 인(Agent) | U54: (인 또는 서명)
C56: 대리인(Agent)주민(여권)번호 (R.I.N & Passport No.) :
A57: 이 신청서는 외국환 통계자료로 활용하며 과세자료로 국세청에 통보될 수 있습니다.
A58: 신청인의 주소정보는 국제간 자금세탁 및 테러자금 방지를 위해 송금수취은행에 제공됩니다.
C59: 위 거래외국환은행 지정사실을 확인함. | U59: 지정확인번호
E60: 년 월 일 | U60: 지 정 일 자
E61: 우 리 은 행 장 (인) | AF61: 인감 및 원본확인
A63: *본 신청서는 대외지급수단의 휴대반출에 따른 근거서류로 활용할 수 없습니다.
K65: 외환공통(401054, 210×297) 백상지 70g/㎡ (2018.3. 개정)

Sheet Sheet5
A1: 지 급 신 청 서 | AB1: 실명확인 | AE1: 검토자 | AH1: 결재권자
A3: 거래외국환은행지정신청서
A5: 기존송금번호 | M5: 고객번호
A6: ※ 당행을 통하여 과거 수취인에게 송금한 내역이 존재할 경우 상기 기존송금번호를 추가로 기재하시면 보다 빠른 업무처리가 가능합니다.
A7: 우리은행 앞 | J7: 년 월 일
A8: 신청인 | C8: 영문 성명(또는 상호) (Applicant) | L8: SANGMYUNG UNIVERSITY | AC8: 국 적 Nationality | AF8: KOREA
C10: 주민번호,사업자번호,여권번호 R.I.N & B.I.N & Passport No | L10: 102-82-01669 | W10: E-mail
C11: 주 소 (Address in Korea) | I11: □ 자택 □ 직장 ▣ 본점 | L11: SANGMYUNG UNIVERSITY, 20 Hongjimun 2-gil, Jongno-gu, Seoul 03016, Korea | AC11: TEL:
C12: 실제당사자 여부 | I12: ※자금 실소유자 여부 ▣ 예 □ 아니오 | S12: 주사업장 | V12: (TEL: )
C13: 영리법인(업종) 비영리/기타단체(설립목적) | O13: 대표자 | S13: 성 명 주민등록번호 | AC13: 최대 주주
C14: ※신청인이 법인 또는 단체인 경우 주사업장,업종(설립목적), 대표자 성명 및 주민등록번호, 최대주주를 추가로 기재하셔야 합니다.
A15: 지 정 신 청 내 용 | C15: 지정여부 | F15: □ 기 지정 완료 □ 신규 지정 요망 | K15: 지정거래 당사자 | M15: □ 신청인과 동일함 | T15: 성 명(또는 상호) | AA15: 주민(사업자)번호,여권번호
T17: ※ "신청인과 동일함"에 체크할 경우 기재하실 필요가 없습니다.
C18: 지정항목
F19: □01(거주자의 지급증빙미제출 지급) □02(해외유학생(해외체재자)경비) □08(외국인등의 급여등 지급)
F20: □63(재외동포 국내재산반출) □75(해외이주비)
F22: 상기 체크항목에 대하여 귀행을 거래외국환은행으로 지정하고자 하오니 확인하여 주시기 바랍니다.
A24: 송 금 신 청 내 용 | C24: 통 화 (Currency) | K24: 금 액 (Amount) | V24: 지 급 방 법 | AA24: □여행자수표(T/C) □기타
C25: ※ 이란, 북한 등 송금제한 국가와의 교역과 관련된 제3국 송금(중계무역 등)인 경우 USD 포함한 모든 통화의 거래가 불가합니다.
C26: 현지수취통화(Currency) | K26: 현지수취금액 (Amount) | V26: 결제은행 수수료부담(Charge) | AA26: □ 수취인(Beneficiary) □ 신청인(Applicant)
C27: ※ W-FX 이종통화송금서비스 또는 위안화 송금시 기재하여 주시기 바랍니다. 단, 당행이 고지한 현지수취 금액은 미확정 금액이며, 중계은행 및 수취은행이 적용하는 환율의 변경에 따라 달라질 수 있습니다.
C28: 송금방법 (Send by) | G28: ▣ 해외송금(□ 무계좌송금 □ 인도네시아 통신사 송금) □ 국내이체(수취인계좌구분:□ 거주자계정 □ 대외계정) □ 송금수표(□ DD □ CRS □ WACHS)
G29: ※ 인도네시아 통신사 송금의 경우, 모바일지갑 내 전자화폐(E-MONEY) 형태로 송금됩니다.
C30: 지 급 사 유 (거래목적)
G31: ※ 송금(여행자수표 구입후 지급 포함)하시고자 하는 경우 지급사유(거래목적)를 구체적으로 기재하셔야 합니다.
C32: 수취인 (Beneficiary) | G32: 성명(Name) | AC32: 신청인과 의 관계
G33: 주 소(Address) | AC33: TEL:
L34: ※ 무계좌송금의 경우, 수취인 연락처, ID No. 등을 추가로 기재하셔야 합니다.
C35: 수취인 거래은행 (BNF'S Bank) | G35: 은행명,지점명,주소 (Bank Name,Branch Name,Address) | AC35: TEL:
AC36: 수취국가
G37: 국가별은행코드 (ABA NO.등) | L37: SWIFT NO :
L38: ※ 미국(ABA NO.9자리), 뉴질랜드.호주(BSB NO.6자리), 캐나다(TRANSIT NO.8자리)를 추가로 기재하셔야 합니다.
G39: 수취인계좌(BNF'S A/C No.)
L40: ※ 인도네시아 통신사 송금의 경우, 통신사명과 휴대폰번호를 기재하셔야 합니다.
L41: ※ IBAN CODE로 송금 시, 수취은행에서 수취인명 확인없이 CODE상 계좌로 자동 입금되는 경우가 있으므로,
L42: 해킹 등에 의한 사기방지를 위해 반드시 수취인측에 전화 등으로 IBAN CODE를 명확히 확인하시기 바랍니다.
C43: 사후송금방식 수입의 경우 기재 | L43: 수입신고서 번호 | U43: 품목(H.S. Code) | AB43: 가격조건 | AF43: 수입용도
A45: □ 본 송금의 이란, 북한 등 송금제한 국가와의 교역과 관련된 제3국 송금(중계무역 등) 여부 □ YES ▣ NO
A46: □ 상기 내용을 전자금융(자동화기기/인터넷/모바일) 해외송금을 위한 송금정보로 등록/변경/해지할 것을 신청합니다.
A47: 본인은 귀행 영업점에 비치된 외환거래 기본약관을 열람하고 그 내용에 따른 것을 확약합니다.
A48: I/We hereby acknowledge my/our perusal of the General Terms and Conditions of Foreign Exchange
A49: Transactions kept at your bank's and agree to abide by them. | AC49: ※지급입증서류 확인필
A50: 중국위안화에 의한 거래시에는 현지 정책에 따라 거래 제한(용도 및 대상기업에 따른 제한 포함)이 될 수 있음을 인지하였으며, 이로 말미암은 문제에 대해서는 당사에 책임이 있음을 확약합니다. | AD50: 직급, 성명 | AH50: 확인 인
A51: ※ 본 송금은 이란, 북한 등 송금제한 국가와의 교역과 관련된 제3국 송금(중계무역 등)이 아님을 확약합니다.
C52: 신 청 인(Applicant) | K52: SANGMYUNG UNIVERSITY | U52: (인 또는 서명)
C54: 대 리 인(Agent) | U54: (인 또는 서명)
C56: 대리인(Agent)주민(여권)번호 (R.I.N & Passport No.) :
A57: 이 신청서는 외국환 통계자료로 활용하며 과세자료로 국세청에 통보될 수 있습니다.
A58: 신청인의 주소정보는 국제간 자금세탁 및 테러자금 방지를 위해 송금수취은행에 제공됩니다.
C59: 위 거래외국환은행 지정사실을 확인함. | U59: 지정확인번호
E60: 년 월 일 | U60: 지 정 일 자
E61: 우 리 은 행 장 (인) | AF61: 인감 및 원본확인
A63: *본 신청서는 대외지급수단의 휴대반출에 따른 근거서류로 활용할 수 없습니다.
K65: 외환공통(401054, 210×297) 백상지 70g/㎡ (2018.3. 개정)

Sheet Sheet6
A1: 지 급 신 청 서 | AB1: 실명확인 | AE1: 검토자 | AH1: 결재권자
A3: 거래외국환은행지정신청서
A5: 기존송금번호 | M5: 고객번호
A6: ※ 당행을 통하여 과거 수취인에게 송금한 내역이 존재할 경우 상기 기존송금번호를 추가로 기재하시면 보다 빠른 업무처리가 가능합니다.
A7: 우리은행 앞 | J7: 년 월 일
A8: 신청인 | C8: 영문 성명(또는 상호) (Applicant) | L8: SANGMYUNG UNIVERSITY | AC8: 국 적 Nationality | AF8: KOREA
C10: 주민번호,사업자번호,여권번호 R.I.N & B.I.N & Passport No | L10: 102-82-01669 | W10: E-mail
C11: 주 소 (Address in Korea) | I11: □ 자택 □ 직장 ▣ 본점 | L11: SANGMYUNG UNIVERSITY, 20 Hongjimun 2-gil, Jongno-gu, Seoul 03016, Korea | AC11: TEL:
C12: 실제당사자 여부 | I12: ※자금 실소유자 여부 ▣ 예 □ 아니오 | S12: 주사업장 | V12: (TEL: )
C13: 영리법인(업종) 비영리/기타단체(설립목적) | O13: 대표자 | S13: 성 명 주민등록번호 | AC13: 최대 주주
C14: ※신청인이 법인 또는 단체인 경우 주사업장,업종(설립목적), 대표자 성명 및 주민등록번호, 최대주주를 추가로 기재하셔야 합니다.
A15: 지 정 신 청 내 용 | C15: 지정여부 | F15: □ 기 지정 완료 □ 신규 지정 요망 | K15: 지정거래 당사자 | M15: □ 신청인과 동일함 | T15: 성 명(또는 상호) | AA15: 주민(사업자)번호,여권번호
T17: ※ "신청인과 동일함"에 체크할 경우 기재하실 필요가 없습니다.
C18: 지정항목
F19: □01(거주자의 지급증빙미제출 지급) □02(해외유학생(해외체재자)경비) □08(외국인등의 급여등 지급)
F20: □63(재외동포 국내재산반출) □75(해외이주비)
F22: 상기 체크항목에 대하여 귀행을 거래외국환은행으로 지정하고자 하오니 확인하여 주시기 바랍니다.
A24: 송 금 신 청 내 용 | C24: 통 화 (Currency) | K24: 금 액 (Amount) | V24: 지 급 방 법 | AA24: □여행자수표(T/C) □기타
C25: ※ 이란, 북한 등 송금제한 국가와의 교역과 관련된 제3국 송금(중계무역 등)인 경우 USD 포함한 모든 통화의 거래가 불가합니다.
C26: 현지수취통화(Currency) | K26: 현지수취금액 (Amount) | V26: 결제은행 수수료부담(Charge) | AA26: □ 수취인(Beneficiary) □ 신청인(Applicant)
C27: ※ W-FX 이종통화송금서비스 또는 위안화 송금시 기재하여 주시기 바랍니다. 단, 당행이 고지한 현지수취 금액은 미확정 금액이며, 중계은행 및 수취은행이 적용하는 환율의 변경에 따라 달라질 수 있습니다.
C28: 송금방법 (Send by) | G28: ▣ 해외송금(□ 무계좌송금 □ 인도네시아 통신사 송금) □ 국내이체(수취인계좌구분:□ 거주자계정 □ 대외계정) □ 송금수표(□ DD □ CRS □ WACHS)
G29: ※ 인도네시아 통신사 송금의 경우, 모바일지갑 내 전자화폐(E-MONEY) 형태로 송금됩니다.
C30: 지 급 사 유 (거래목적)
G31: ※ 송금(여행자수표 구입후 지급 포함)하시고자 하는 경우 지급사유(거래목적)를 구체적으로 기재하셔야 합니다.
C32: 수취인 (Beneficiary) | G32: 성명(Name) | AC32: 신청인과 의 관계
G33: 주 소(Address) | AC33: TEL:
L34: ※ 무계좌송금의 경우, 수취인 연락처, ID No. 등을 추가로 기재하셔야 합니다.
C35: 수취인 거래은행 (BNF'S Bank) | G35: 은행명,지점명,주소 (Bank Name,Branch Name,Address) | AC35: TEL:
AC36: 수취국가
G37: 국가별은행코드 (ABA NO.등) | L37: SWIFT NO :
L38: ※ 미국(ABA NO.9자리), 뉴질랜드.호주(BSB NO.6자리), 캐나다(TRANSIT NO.8자리)를 추가로 기재하셔야 합니다.
G39: 수취인계좌(BNF'S A/C No.)
L40: ※ 인도네시아 통신사 송금의 경우, 통신사명과 휴대폰번호를 기재하셔야 합니다.
L41: ※ IBAN CODE로 송금 시, 수취은행에서 수취인명 확인없이 CODE상 계좌로 자동 입금되는 경우가 있으므로,
L42: 해킹 등에 의한 사기방지를 위해 반드시 수취인측에 전화 등으로 IBAN CODE를 명확히 확인하시기 바랍니다.
C43: 사후송금방식 수입의 경우 기재 | L43: 수입신고서 번호 | U43: 품목(H.S. Code) | AB43: 가격조건 | AF43: 수입용도
A45: □ 본 송금의 이란, 북한 등 송금제한 국가와의 교역과 관련된 제3국 송금(중계무역 등) 여부 □ YES ▣ NO
A46: □ 상기 내용을 전자금융(자동화기기/인터넷/모바일) 해외송금을 위한 송금정보로 등록/변경/해지할 것을 신청합니다.
A47: 본인은 귀행 영업점에 비치된 외환거래 기본약관을 열람하고 그 내용에 따른 것을 확약합니다.
A48: I/We hereby acknowledge my/our perusal of the General Terms and Conditions of Foreign Exchange
A49: Transactions kept at your bank's and agree to abide by them. | AC49: ※지급입증서류 확인필
A50: 중국위안화에 의한 거래시에는 현지 정책에 따라 거래 제한(용도 및 대상기업에 따른 제한 포함)이 될 수 있음을 인지하였으며, 이로 말미암은 문제에 대해서는 당사에 책임이 있음을 확약합니다. | AD50: 직급, 성명 | AH50: 확인 인
A51: ※ 본 송금은 이란, 북한 등 송금제한 국가와의 교역과 관련된 제3국 송금(중계무역 등)이 아님을 확약합니다.
C52: 신 청 인(Applicant) | K52: SANGMYUNG UNIVERSITY | U52: (인 또는 서명)
C54: 대 리 인(Agent) | U54: (인 또는 서명)
C56: 대리인(Agent)주민(여권)번호 (R.I.N & Passport No.) :
A57: 이 신청서는 외국환 통계자료로 활용하며 과세자료로 국세청에 통보될 수 있습니다.
A58: 신청인의 주소정보는 국제간 자금세탁 및 테러자금 방지를 위해 송금수취은행에 제공됩니다.
C59: 위 거래외국환은행 지정사실을 확인함. | U59: 지정확인번호
E60: 년 월 일 | U60: 지 정 일 자
E61: 우 리 은 행 장 (인) | AF61: 인감 및 원본확인
A63: *본 신청서는 대외지급수단의 휴대반출에 따른 근거서류로 활용할 수 없습니다.
K65: 외환공통(401054, 210×297) 백상지 70g/㎡ (2018.3. 개정)

Sheet Sheet7
A1: 지 급 신 청 서 | AB1: 실명확인 | AE1: 검토자 | AH1: 결재권자
A3: 거래외국환은행지정신청서
A5: 기존송금번호 | M5: 고객번호
A6: ※ 당행을 통하여 과거 수취인에게 송금한 내역이 존재할 경우 상기 기존송금번호를 추가로 기재하시면 보다 빠른 업무처리가 가능합니다.
A7: 우리은행 앞 | J7: 년 월 일
A8: 신청인 | C8: 영문 성명(또는 상호) (Applicant) | L8: SANGMYUNG UNIVERSITY | AC8: 국 적 Nationality | AF8: KOREA
C10: 주민번호,사업자번호,여권번호 R.I.N & B.I.N & Passport No | L10: 102-82-01669 | W10: E-mail
C11: 주 소 (Address in Korea) | I11: □ 자택 □ 직장 ▣ 본점 | L11: SANGMYUNG UNIVERSITY, 20 Hongjimun 2-gil, Jongno-gu, Seoul 03016, Korea | AC11: TEL:
C12: 실제당사자 여부 | I12: ※자금 실소유자 여부 ▣ 예 □ 아니오 | S12: 주사업장 | V12: (TEL: )
C13: 영리법인(업종) 비영리/기타단체(설립목적) | O13: 대표자 | S13: 성 명 주민등록번호 | AC13: 최대 주주
C14: ※신청인이 법인 또는 단체인 경우 주사업장,업종(설립목적), 대표자 성명 및 주민등록번호, 최대주주를 추가로 기재하셔야 합니다.
A15: 지 정 신 청 내 용 | C15: 지정여부 | F15: □ 기 지정 완료 □ 신규 지정 요망 | K15: 지정거래 당사자 | M15: □ 신청인과 동일함 | T15: 성 명(또는 상호) | AA15: 주민(사업자)번호,여권번호
T17: ※ "신청인과 동일함"에 체크할 경우 기재하실 필요가 없습니다.
C18: 지정항목
F19: □01(거주자의 지급증빙미제출 지급) □02(해외유학생(해외체재자)경비) □08(외국인등의 급여등 지급)
F20: □63(재외동포 국내재산반출) □75(해외이주비)
F22: 상기 체크항목에 대하여 귀행을 거래외국환은행으로 지정하고자 하오니 확인하여 주시기 바랍니다.
A24: 송 금 신 청 내 용 | C24: 통 화 (Currency) | K24: 금 액 (Amount) | V24: 지 급 방 법 | AA24: □여행자수표(T/C) □기타
C25: ※ 이란, 북한 등 송금제한 국가와의 교역과 관련된 제3국 송금(중계무역 등)인 경우 USD 포함한 모든 통화의 거래가 불가합니다.
C26: 현지수취통화(Currency) | K26: 현지수취금액 (Amount) | V26: 결제은행 수수료부담(Charge) | AA26: □ 수취인(Beneficiary) □ 신청인(Applicant)
C27: ※ W-FX 이종통화송금서비스 또는 위안화 송금시 기재하여 주시기 바랍니다. 단, 당행이 고지한 현지수취 금액은 미확정 금액이며, 중계은행 및 수취은행이 적용하는 환율의 변경에 따라 달라질 수 있습니다.
C28: 송금방법 (Send by) | G28: ▣ 해외송금(□ 무계좌송금 □ 인도네시아 통신사 송금) □ 국내이체(수취인계좌구분:□ 거주자계정 □ 대외계정) □ 송금수표(□ DD □ CRS □ WACHS)
G29: ※ 인도네시아 통신사 송금의 경우, 모바일지갑 내 전자화폐(E-MONEY) 형태로 송금됩니다.
C30: 지 급 사 유 (거래목적)
G31: ※ 송금(여행자수표 구입후 지급 포함)하시고자 하는 경우 지급사유(거래목적)를 구체적으로 기재하셔야 합니다.
C32: 수취인 (Beneficiary) | G32: 성명(Name) | AC32: 신청인과 의 관계
G33: 주 소(Address) | AC33: TEL:
L34: ※ 무계좌송금의 경우, 수취인 연락처, ID No. 등을 추가로 기재하셔야 합니다.
C35: 수취인 거래은행 (BNF'S Bank) | G35: 은행명,지점명,주소 (Bank Name,Branch Name,Address) | AC35: TEL:
AC36: 수취국가
G37: 국가별은행코드 (ABA NO.등) | L37: SWIFT NO :
L38: ※ 미국(ABA NO.9자리), 뉴질랜드.호주(BSB NO.6자리), 캐나다(TRANSIT NO.8자리)를 추가로 기재하셔야 합니다.
G39: 수취인계좌(BNF'S A/C No.)
L40: ※ 인도네시아 통신사 송금의 경우, 통신사명과 휴대폰번호를 기재하셔야 합니다.
L41: ※ IBAN CODE로 송금 시, 수취은행에서 수취인명 확인없이 CODE상 계좌로 자동 입금되는 경우가 있으므로,
L42: 해킹 등에 의한 사기방지를 위해 반드시 수취인측에 전화 등으로 IBAN CODE를 명확히 확인하시기 바랍니다.
C43: 사후송금방식 수입의 경우 기재 | L43: 수입신고서 번호 | U43: 품목(H.S. Code) | AB43: 가격조건 | AF43: 수입용도
A45: □ 본 송금의 이란, 북한 등 송금제한 국가와의 교역과 관련된 제3국 송금(중계무역 등) 여부 □ YES ▣ NO
A46: □ 상기 내용을 전자금융(자동화기기/인터넷/모바일) 해외송금을 위한 송금정보로 등록/변경/해지할 것을 신청합니다.
A47: 본인은 귀행 영업점에 비치된 외환거래 기본약관을 열람하고 그 내용에 따른 것을 확약합니다.
A48: I/We hereby acknowledge my/our perusal of the General Terms and Conditions of Foreign Exchange
A49: Transactions kept at your bank's and agree to abide by them. | AC49: ※지급입증서류 확인필
A50: 중국위안화에 의한 거래시에는 현지 정책에 따라 거래 제한(용도 및 대상기업에 따른 제한 포함)이 될 수 있음을 인지하였으며, 이로 말미암은 문제에 대해서는 당사에 책임이 있음을 확약합니다. | AD50: 직급, 성명 | AH50: 확인 인
A51: ※ 본 송금은 이란, 북한 등 송금제한 국가와의 교역과 관련된 제3국 송금(중계무역 등)이 아님을 확약합니다.
C52: 신 청 인(Applicant) | K52: SANGMYUNG UNIVERSITY | U52: (인 또는 서명)
C54: 대 리 인(Agent) | U54: (인 또는 서명)
C56: 대리인(Agent)주민(여권)번호 (R.I.N & Passport No.) :
A57: 이 신청서는 외국환 통계자료로 활용하며 과세자료로 국세청에 통보될 수 있습니다.
A58: 신청인의 주소정보는 국제간 자금세탁 및 테러자금 방지를 위해 송금수취은행에 제공됩니다.
C59: 위 거래외국환은행 지정사실을 확인함. | U59: 지정확인번호
E60: 년 월 일 | U60: 지 정 일 자
E61: 우 리 은 행 장 (인) | AF61: 인감 및 원본확인
A63: *본 신청서는 대외지급수단의 휴대반출에 따른 근거서류로 활용할 수 없습니다.
K65: 외환공통(401054, 210×297) 백상지 70g/㎡ (2018.3. 개정)

Sheet Sheet8
A1: 지 급 신 청 서 | AB1: 실명확인 | AE1: 검토자 | AH1: 결재권자
A3: 거래외국환은행지정신청서
A5: 기존송금번호 | M5: 고객번호
A6: ※ 당행을 통하여 과거 수취인에게 송금한 내역이 존재할 경우 상기 기존송금번호를 추가로 기재하시면 보다 빠른 업무처리가 가능합니다.
A7: 우리은행 앞 | J7: 년 월 일
A8: 신청인 | C8: 영문 성명(또는 상호) (Applicant) | L8: SANGMYUNG UNIVERSITY | AC8: 국 적 Nationality | AF8: KOREA
C10: 주민번호,사업자번호,여권번호 R.I.N & B.I.N & Passport No | L10: 102-82-01669 | W10: E-mail
C11: 주 소 (Address in Korea) | I11: □ 자택 □ 직장 ▣ 본점 | L11: SANGMYUNG UNIVERSITY, 20 Hongjimun 2-gil, Jongno-gu, Seoul 03016, Korea | AC11: TEL:
C12: 실제당사자 여부 | I12: ※자금 실소유자 여부 ▣ 예 □ 아니오 | S12: 주사업장 | V12: (TEL: )
C13: 영리법인(업종) 비영리/기타단체(설립목적) | O13: 대표자 | S13: 성 명 주민등록번호 | AC13: 최대 주주
C14: ※신청인이 법인 또는 단체인 경우 주사업장,업종(설립목적), 대표자 성명 및 주민등록번호, 최대주주를 추가로 기재하셔야 합니다.
A15: 지 정 신 청 내 용 | C15: 지정여부 | F15: □ 기 지정 완료 □ 신규 지정 요망 | K15: 지정거래 당사자 | M15: □ 신청인과 동일함 | T15: 성 명(또는 상호) | AA15: 주민(사업자)번호,여권번호
T17: ※ "신청인과 동일함"에 체크할 경우 기재하실 필요가 없습니다.
C18: 지정항목
F19: □01(거주자의 지급증빙미제출 지급) □02(해외유학생(해외체재자)경비) □08(외국인등의 급여등 지급)
F20: □63(재외동포 국내재산반출) □75(해외이주비)
F22: 상기 체크항목에 대하여 귀행을 거래외국환은행으로 지정하고자 하오니 확인하여 주시기 바랍니다.
A24: 송 금 신 청 내 용 | C24: 통 화 (Currency) | K24: 금 액 (Amount) | V24: 지 급 방 법 | AA24: □여행자수표(T/C) □기타
C25: ※ 이란, 북한 등 송금제한 국가와의 교역과 관련된 제3국 송금(중계무역 등)인 경우 USD 포함한 모든 통화의 거래가 불가합니다.
C26: 현지수취통화(Currency) | K26: 현지수취금액 (Amount) | V26: 결제은행 수수료부담(Charge) | AA26: □ 수취인(Beneficiary) □ 신청인(Applicant)
C27: ※ W-FX 이종통화송금서비스 또는 위안화 송금시 기재하여 주시기 바랍니다. 단, 당행이 고지한 현지수취 금액은 미확정 금액이며, 중계은행 및 수취은행이 적용하는 환율의 변경에 따라 달라질 수 있습니다.
C28: 송금방법 (Send by) | G28: ▣ 해외송금(□ 무계좌송금 □ 인도네시아 통신사 송금) □ 국내이체(수취인계좌구분:□ 거주자계정 □ 대외계정) □ 송금수표(□ DD □ CRS □ WACHS)
G29: ※ 인도네시아 통신사 송금의 경우, 모바일지갑 내 전자화폐(E-MONEY) 형태로 송금됩니다.
C30: 지 급 사 유 (거래목적)
G31: ※ 송금(여행자수표 구입후 지급 포함)하시고자 하는 경우 지급사유(거래목적)를 구체적으로 기재하셔야 합니다.
C32: 수취인 (Beneficiary) | G32: 성명(Name) | AC32: 신청인과 의 관계
G33: 주 소(Address) | AC33: TEL:
L34: ※ 무계좌송금의 경우, 수취인 연락처, ID No. 등을 추가로 기재하셔야 합니다.
C35: 수취인 거래은행 (BNF'S Bank) | G35: 은행명,지점명,주소 (Bank Name,Branch Name,Address) | AC35: TEL:
AC36: 수취국가
G37: 국가별은행코드 (ABA NO.등) | L37: SWIFT NO :
L38: ※ 미국(ABA NO.9자리), 뉴질랜드.호주(BSB NO.6자리), 캐나다(TRANSIT NO.8자리)를 추가로 기재하셔야 합니다.
G39: 수취인계좌(BNF'S A/C No.)
L40: ※ 인도네시아 통신사 송금의 경우, 통신사명과 휴대폰번호를 기재하셔야 합니다.
L41: ※ IBAN CODE로 송금 시, 수취은행에서 수취인명 확인없이 CODE상 계좌로 자동 입금되는 경우가 있으므로,
L42: 해킹 등에 의한 사기방지를 위해 반드시 수취인측에 전화 등으로 IBAN CODE를 명확히 확인하시기 바랍니다.
C43: 사후송금방식 수입의 경우 기재 | L43: 수입신고서 번호 | U43: 품목(H.S. Code) | AB43: 가격조건 | AF43: 수입용도
A45: □ 본 송금의 이란, 북한 등 송금제한 국가와의 교역과 관련된 제3국 송금(중계무역 등) 여부 □ YES ▣ NO
A46: □ 상기 내용을 전자금융(자동화기기/인터넷/모바일) 해외송금을 위한 송금정보로 등록/변경/해지할 것을 신청합니다.
A47: 본인은 귀행 영업점에 비치된 외환거래 기본약관을 열람하고 그 내용에 따른 것을 확약합니다.
A48: I/We hereby acknowledge my/our perusal of the General Terms and Conditions of Foreign Exchange
A49: Transactions kept at your bank's and agree to abide by them. | AC49: ※지급입증서류 확인필
A50: 중국위안화에 의한 거래시에는 현지 정책에 따라 거래 제한(용도 및 대상기업에 따른 제한 포함)이 될 수 있음을 인지하였으며, 이로 말미암은 문제에 대해서는 당사에 책임이 있음을 확약합니다. | AD50: 직급, 성명 | AH50: 확인 인
A51: ※ 본 송금은 이란, 북한 등 송금제한 국가와의 교역과 관련된 제3국 송금(중계무역 등)이 아님을 확약합니다.
C52: 신 청 인(Applicant) | K52: SANGMYUNG UNIVERSITY | U52: (인 또는 서명)
C54: 대 리 인(Agent) | U54: (인 또는 서명)
C56: 대리인(Agent)주민(여권)번호 (R.I.N & Passport No.) :
A57: 이 신청서는 외국환 통계자료로 활용하며 과세자료로 국세청에 통보될 수 있습니다.
A58: 신청인의 주소정보는 국제간 자금세탁 및 테러자금 방지를 위해 송금수취은행에 제공됩니다.
C59: 위 거래외국환은행 지정사실을 확인함. | U59: 지정확인번호
E60: 년 월 일 | U60: 지 정 일 자
E61: 우 리 은 행 장 (인) | AF61: 인감 및 원본확인
A63: *본 신청서는 대외지급수단의 휴대반출에 따른 근거서류로 활용할 수 없습니다.
K65: 외환공통(401054, 210×297) 백상지 70g/㎡ (2018.3. 개정)

Sheet Sheet9
A1: 지 급 신 청 서 | AB1: 실명확인 | AE1: 검토자 | AH1: 결재권자
A3: 거래외국환은행지정신청서
A5: 기존송금번호 | M5: 고객번호
A6: ※ 당행을 통하여 과거 수취인에게 송금한 내역이 존재할 경우 상기 기존송금번호를 추가로 기재하시면 보다 빠른 업무처리가 가능합니다.
A7: 우리은행 앞 | J7: 년 월 일
A8: 신청인 | C8: 영문 성명(또는 상호) (Applicant) | L8: SANGMYUNG UNIVERSITY | AC8: 국 적 Nationality | AF8: KOREA
C10: 주민번호,사업자번호,여권번호 R.I.N & B.I.N & Passport No | L10: 102-82-01669 | W10: E-mail
C11: 주 소 (Address in Korea) | I11: □ 자택 □ 직장 ▣ 본점 | L11: SANGMYUNG UNIVERSITY, 20 Hongjimun 2-gil, Jongno-gu, Seoul 03016, Korea | AC11: TEL:
C12: 실제당사자 여부 | I12: ※자금 실소유자 여부 ▣ 예 □ 아니오 | S12: 주사업장 | V12: (TEL: )
C13: 영리법인(업종) 비영리/기타단체(설립목적) | O13: 대표자 | S13: 성 명 주민등록번호 | AC13: 최대 주주
C14: ※신청인이 법인 또는 단체인 경우 주사업장,업종(설립목적), 대표자 성명 및 주민등록번호, 최대주주를 추가로 기재하셔야 합니다.
A15: 지 정 신 청 내 용 | C15: 지정여부 | F15: □ 기 지정 완료 □ 신규 지정 요망 | K15: 지정거래 당사자 | M15: □ 신청인과 동일함 | T15: 성 명(또는 상호) | AA15: 주민(사업자)번호,여권번호
T17: ※ "신청인과 동일함"에 체크할 경우 기재하실 필요가 없습니다.
C18: 지정항목
F19: □01(거주자의 지급증빙미제출 지급) □02(해외유학생(해외체재자)경비) □08(외국인등의 급여등 지급)
F20: □63(재외동포 국내재산반출) □75(해외이주비)
F22: 상기 체크항목에 대하여 귀행을 거래외국환은행으로 지정하고자 하오니 확인하여 주시기 바랍니다.
A24: 송 금 신 청 내 용 | C24: 통 화 (Currency) | K24: 금 액 (Amount) | V24: 지 급 방 법 | AA24: □여행자수표(T/C) □기타
C25: ※ 이란, 북한 등 송금제한 국가와의 교역과 관련된 제3국 송금(중계무역 등)인 경우 USD 포함한 모든 통화의 거래가 불가합니다.
C26: 현지수취통화(Currency) | K26: 현지수취금액 (Amount) | V26: 결제은행 수수료부담(Charge) | AA26: □ 수취인(Beneficiary) □ 신청인(Applicant)
C27: ※ W-FX 이종통화송금서비스 또는 위안화 송금시 기재하여 주시기 바랍니다. 단, 당행이 고지한 현지수취 금액은 미확정 금액이며, 중계은행 및 수취은행이 적용하는 환율의 변경에 따라 달라질 수 있습니다.
C28: 송금방법 (Send by) | G28: ▣ 해외송금(□ 무계좌송금 □ 인도네시아 통신사 송금) □ 국내이체(수취인계좌구분:□ 거주자계정 □ 대외계정) □ 송금수표(□ DD □ CRS □ WACHS)
G29: ※ 인도네시아 통신사 송금의 경우, 모바일지갑 내 전자화폐(E-MONEY) 형태로 송금됩니다.
C30: 지 급 사 유 (거래목적)
G31: ※ 송금(여행자수표 구입후 지급 포함)하시고자 하는 경우 지급사유(거래목적)를 구체적으로 기재하셔야 합니다.
C32: 수취인 (Beneficiary) | G32: 성명(Name) | AC32: 신청인과 의 관계
G33: 주 소(Address) | AC33: TEL:
L34: ※ 무계좌송금의 경우, 수취인 연락처, ID No. 등을 추가로 기재하셔야 합니다.
C35: 수취인 거래은행 (BNF'S Bank) | G35: 은행명,지점명,주소 (Bank Name,Branch Name,Address) | AC35: TEL:
AC36: 수취국가
G37: 국가별은행코드 (ABA NO.등) | L37: SWIFT NO :
L38: ※ 미국(ABA NO.9자리), 뉴질랜드.호주(BSB NO.6자리), 캐나다(TRANSIT NO.8자리)를 추가로 기재하셔야 합니다.
G39: 수취인계좌(BNF'S A/C No.)
L40: ※ 인도네시아 통신사 송금의 경우, 통신사명과 휴대폰번호를 기재하셔야 합니다.
L41: ※ IBAN CODE로 송금 시, 수취은행에서 수취인명 확인없이 CODE상 계좌로 자동 입금되는 경우가 있으므로,
L42: 해킹 등에 의한 사기방지를 위해 반드시 수취인측에 전화 등으로 IBAN CODE를 명확히 확인하시기 바랍니다.
C43: 사후송금방식 수입의 경우 기재 | L43: 수입신고서 번호 | U43: 품목(H.S. Code) | AB43: 가격조건 | AF43: 수입용도
A45: □ 본 송금의 이란, 북한 등 송금제한 국가와의 교역과 관련된 제3국 송금(중계무역 등) 여부 □ YES ▣ NO
A46: □ 상기 내용을 전자금융(자동화기기/인터넷/모바일) 해외송금을 위한 송금정보로 등록/변경/해지할 것을 신청합니다.
A47: 본인은 귀행 영업점에 비치된 외환거래 기본약관을 열람하고 그 내용에 따른 것을 확약합니다.
A48: I/We hereby acknowledge my/our perusal of the General Terms and Conditions of Foreign Exchange
A49: Transactions kept at your bank's and agree to abide by them. | AC49: ※지급입증서류 확인필
A50: 중국위안화에 의한 거래시에는 현지 정책에 따라 거래 제한(용도 및 대상기업에 따른 제한 포함)이 될 수 있음을 인지하였으며, 이로 말미암은 문제에 대해서는 당사에 책임이 있음을 확약합니다. | AD50: 직급, 성명 | AH50: 확인 인
A51: ※ 본 송금은 이란, 북한 등 송금제한 국가와의 교역과 관련된 제3국 송금(중계무역 등)이 아님을 확약합니다.
C52: 신 청 인(Applicant) | K52: SANGMYUNG UNIVERSITY | U52: (인 또는 서명)
C54: 대 리 인(Agent) | U54: (인 또는 서명)
C56: 대리인(Agent)주민(여권)번호 (R.I.N & Passport No.) :
A57: 이 신청서는 외국환 통계자료로 활용하며 과세자료로 국세청에 통보될 수 있습니다.
A58: 신청인의 주소정보는 국제간 자금세탁 및 테러자금 방지를 위해 송금수취은행에 제공됩니다.
C59: 위 거래외국환은행 지정사실을 확인함. | U59: 지정확인번호
E60: 년 월 일 | U60: 지 정 일 자
E61: 우 리 은 행 장 (인) | AF61: 인감 및 원본확인
A63: *본 신청서는 대외지급수단의 휴대반출에 따른 근거서류로 활용할 수 없습니다.
K65: 외환공통(401054, 210×297) 백상지 70g/㎡ (2018.3. 개정)

Sheet Sheet10
A1: 지 급 신 청 서 | AB1: 실명확인 | AE1: 검토자 | AH1: 결재권자
A3: 거래외국환은행지정신청서
A5: 기존송금번호 | M5: 고객번호
A6: ※ 당행을 통하여 과거 수취인에게 송금한 내역이 존재할 경우 상기 기존송금번호를 추가로 기재하시면 보다 빠른 업무처리가 가능합니다.
A7: 우리은행 앞 | J7: 년 월 일
A8: 신청인 | C8: 영문 성명(또는 상호) (Applicant) | L8: SANGMYUNG UNIVERSITY | AC8: 국 적 Nationality | AF8: KOREA
C10: 주민번호,사업자번호,여권번호 R.I.N & B.I.N & Passport No | L10: 102-82-01669 | W10: E-mail
C11: 주 소 (Address in Korea) | I11: □ 자택 □ 직장 ▣ 본점 | L11: SANGMYUNG UNIVERSITY, 20 Hongjimun 2-gil, Jongno-gu, Seoul 03016, Korea | AC11: TEL:
C12: 실제당사자 여부 | I12: ※자금 실소유자 여부 ▣ 예 □ 아니오 | S12: 주사업장 | V12: (TEL: )
C13: 영리법인(업종) 비영리/기타단체(설립목적) | O13: 대표자 | S13: 성 명 주민등록번호 | AC13: 최대 주주
C14: ※신청인이 법인 또는 단체인 경우 주사업장,업종(설립목적), 대표자 성명 및 주민등록번호, 최대주주를 추가로 기재하셔야 합니다.
A15: 지 정 신 청 내 용 | C15: 지정여부 | F15: □ 기 지정 완료 □ 신규 지정 요망 | K15: 지정거래 당사자 | M15: □ 신청인과 동일함 | T15: 성 명(또는 상호) | AA15: 주민(사업자)번호,여권번호
T17: ※ "신청인과 동일함"에 체크할 경우 기재하실 필요가 없습니다.
C18: 지정항목
F19: □01(거주자의 지급증빙미제출 지급) □02(해외유학생(해외체재자)경비) □08(외국인등의 급여등 지급)
F20: □63(재외동포 국내재산반출) □75(해외이주비)
F22: 상기 체크항목에 대하여 귀행을 거래외국환은행으로 지정하고자 하오니 확인하여 주시기 바랍니다.
A24: 송 금 신 청 내 용 | C24: 통 화 (Currency) | K24: 금 액 (Amount) | V24: 지 급 방 법 | AA24: □여행자수표(T/C) □기타
C25: ※ 이란, 북한 등 송금제한 국가와의 교역과 관련된 제3국 송금(중계무역 등)인 경우 USD 포함한 모든 통화의 거래가 불가합니다.
C26: 현지수취통화(Currency) | K26: 현지수취금액 (Amount) | V26: 결제은행 수수료부담(Charge) | AA26: □ 수취인(Beneficiary) □ 신청인(Applicant)
C27: ※ W-FX 이종통화송금서비스 또는 위안화 송금시 기재하여 주시기 바랍니다. 단, 당행이 고지한 현지수취 금액은 미확정 금액이며, 중계은행 및 수취은행이 적용하는 환율의 변경에 따라 달라질 수 있습니다.
C28: 송금방법 (Send by) | G28: ▣ 해외송금(□ 무계좌송금 □ 인도네시아 통신사 송금) □ 국내이체(수취인계좌구분:□ 거주자계정 □ 대외계정) □ 송금수표(□ DD □ CRS □ WACHS)
G29: ※ 인도네시아 통신사 송금의 경우, 모바일지갑 내 전자화폐(E-MONEY) 형태로 송금됩니다.
C30: 지 급 사 유 (거래목적)
G31: ※ 송금(여행자수표 구입후 지급 포함)하시고자 하는 경우 지급사유(거래목적)를 구체적으로 기재하셔야 합니다.
C32: 수취인 (Beneficiary) | G32: 성명(Name) | AC32: 신청인과 의 관계
G33: 주 소(Address) | AC33: TEL:
L34: ※ 무계좌송금의 경우, 수취인 연락처, ID No. 등을 추가로 기재하셔야 합니다.
C35: 수취인 거래은행 (BNF'S Bank) | G35: 은행명,지점명,주소 (Bank Name,Branch Name,Address) | AC35: TEL:
AC36: 수취국가
G37: 국가별은행코드 (ABA NO.등) | L37: SWIFT NO :
L38: ※ 미국(ABA NO.9자리), 뉴질랜드.호주(BSB NO.6자리), 캐나다(TRANSIT NO.8자리)를 추가로 기재하셔야 합니다.
G39: 수취인계좌(BNF'S A/C No.)
L40: ※ 인도네시아 통신사 송금의 경우, 통신사명과 휴대폰번호를 기재하셔야 합니다.
L41: ※ IBAN CODE로 송금 시, 수취은행에서 수취인명 확인없이 CODE상 계좌로 자동 입금되는 경우가 있으므로,
L42: 해킹 등에 의한 사기방지를 위해 반드시 수취인측에 전화 등으로 IBAN CODE를 명확히 확인하시기 바랍니다.
C43: 사후송금방식 수입의 경우 기재 | L43: 수입신고서 번호 | U43: 품목(H.S. Code) | AB43: 가격조건 | AF43: 수입용도
A45: □ 본 송금의 이란, 북한 등 송금제한 국가와의 교역과 관련된 제3국 송금(중계무역 등) 여부 □ YES ▣ NO
A46: □ 상기 내용을 전자금융(자동화기기/인터넷/모바일) 해외송금을 위한 송금정보로 등록/변경/해지할 것을 신청합니다.
A47: 본인은 귀행 영업점에 비치된 외환거래 기본약관을 열람하고 그 내용에 따른 것을 확약합니다.
A48: I/We hereby acknowledge my/our perusal of the General Terms and Conditions of Foreign Exchange
A49: Transactions kept at your bank's and agree to abide by them. | AC49: ※지급입증서류 확인필
A50: 중국위안화에 의한 거래시에는 현지 정책에 따라 거래 제한(용도 및 대상기업에 따른 제한 포함)이 될 수 있음을 인지하였으며, 이로 말미암은 문제에 대해서는 당사에 책임이 있음을 확약합니다. | AD50: 직급, 성명 | AH50: 확인 인
A51: ※ 본 송금은 이란, 북한 등 송금제한 국가와의 교역과 관련된 제3국 송금(중계무역 등)이 아님을 확약합니다.
C52: 신 청 인(Applicant) | K52: SANGMYUNG UNIVERSITY | U52: (인 또는 서명)
C54: 대 리 인(Agent) | U54: (인 또는 서명)
C56: 대리인(Agent)주민(여권)번호 (R.I.N & Passport No.) :
A57: 이 신청서는 외국환 통계자료로 활용하며 과세자료로 국세청에 통보될 수 있습니다.
A58: 신청인의 주소정보는 국제간 자금세탁 및 테러자금 방지를 위해 송금수취은행에 제공됩니다.
C59: 위 거래외국환은행 지정사실을 확인함. | U59: 지정확인번호
E60: 년 월 일 | U60: 지 정 일 자
E61: 우 리 은 행 장 (인) | AF61: 인감 및 원본확인
A63: *본 신청서는 대외지급수단의 휴대반출에 따른 근거서류로 활용할 수 없습니다.
K65: 외환공통(401054, 210×297) 백상지 70g/㎡ (2018.3. 개정)

Sheet 종합
A1: 외환송급 지급신청 현황
A3: 연번 | B3: 송금인이메일 | C3: 송금인전화번호 | D3: 송금액 통화 | E3: 송금액 | F3: 수취인성명 | G3: 신청인과의 관계 | H3: 수취인주소 | I3: 수취인전화번호 | J3: 수취은행명 | K3: 수취은행주소 | L3: 수취은행코드 | M3: 수취인계좌 | N3: 수취은행전화번호 | O3: 수취은행국가
A4: 1 | B4: =Sheet1!$Z$10 -> 0 | C4: =Sheet1!$AE$11 -> 0 | D4: =Sheet1!$G$24 -> 0 | E4: =Sheet1!$N$24 -> 0 | F4: =Sheet1!$L$32 -> 0 | G4: =Sheet1!$AF$32 -> 0 | H4: =Sheet1!$L$33 -> 0 | I4: =Sheet1!$AE$33 -> 0 | J4: =Sheet1!L35 -> 0 | K4: =Sheet1!L36 -> 0 | L4: =Sheet1!$O$37 -> 0 | M4: =Sheet1!$L$39 -> 0 | N4: =Sheet1!$AE$35 -> 0 | O4: =Sheet1!$AF$36 -> 0
A5: 2 | B5: =Sheet2!$Z$10 -> 0 | C5: =Sheet2!$AE$11 -> 0 | D5: =Sheet2!$G$24 -> 0 | E5: =Sheet2!$N$24 -> 0 | F5: =Sheet2!$L$32 -> 0 | G5: =Sheet2!$AF$32 -> 0 | H5: =Sheet2!$L$33 -> 0 | I5: =Sheet2!$AE$33 -> 0 | J5: =Sheet2!L35 -> 0 | K5: =Sheet2!L36 -> 0 | L5: =Sheet2!$O$37 -> 0 | M5: =Sheet2!$L$39 -> 0 | N5: =Sheet2!$AE$35 -> 0 | O5: =Sheet2!$AF$36 -> 0
A6: 3 | B6: =Sheet3!$Z$10 -> 0 | C6: =Sheet3!$AE$11 -> 0 | D6: =Sheet3!$G$24 -> 0 | E6: =Sheet3!$N$24 -> 0 | F6: =Sheet3!$L$32 -> 0 | G6: =Sheet3!$AF$32 -> 0 | H6: =Sheet3!$L$33 -> 0 | I6: =Sheet3!$AE$33 -> 0 | J6: =Sheet3!L35 -> 0 | K6: =Sheet3!L36 -> 0 | L6: =Sheet3!$O$37 -> 0 | M6: =Sheet3!$L$39 -> 0 | N6: =Sheet3!$AE$35 -> 0 | O6: =Sheet3!$AF$36 -> 0
A7: 4 | B7: =Sheet4!$Z$10 -> 0 | C7: =Sheet4!$AE$11 -> 0 | D7: =Sheet4!$G$24 -> 0 | E7: =Sheet4!$N$24 -> 0 | F7: =Sheet4!$L$32 -> 0 | G7: =Sheet4!$AF$32 -> 0 | H7: =Sheet4!$L$33 -> 0 | I7: =Sheet4!$AE$33 -> 0 | J7: =Sheet4!L35 -> 0 | K7: =Sheet4!L36 -> 0 | L7: =Sheet4!$O$37 -> 0 | M7: =Sheet4!$L$39 -> 0 | N7: =Sheet4!$AE$35 -> 0 | O7: =Sheet4!$AF$36 -> 0
A8: 5 | B8: =Sheet5!$Z$10 -> 0 | C8: =Sheet5!$AE$11 -> 0 | D8: =Sheet5!$G$24 -> 0 | E8: =Sheet5!$N$24 -> 0 | F8: =Sheet5!$L$32 -> 0 | G8: =Sheet5!$AF$32 -> 0 | H8: =Sheet5!$L$33 -> 0 | I8: =Sheet5!$AE$33 -> 0 | J8: =Sheet5!L35 -> 0 | K8: =Sheet5!L36 -> 0 | L8: =Sheet5!$O$37 -> 0 | M8: =Sheet5!$L$39 -> 0 | N8: =Sheet5!$AE$35 -> 0 | O8: =Sheet5!$AF$36 -> 0
A9: 6 | B9: =Sheet6!$Z$10 -> 0 | C9: =Sheet6!$AE$11 -> 0 | D9: =Sheet6!$G$24 -> 0 | E9: =Sheet6!$N$24 -> 0 | F9: =Sheet6!$L$32 -> 0 | G9: =Sheet6!$AF$32 -> 0 | H9: =Sheet6!$L$33 -> 0 | I9: =Sheet6!$AE$33 -> 0 | J9: =Sheet6!L35 -> 0 | K9: =Sheet6!L36 -> 0 | L9: =Sheet6!$O$37 -> 0 | M9: =Sheet6!$L$39 -> 0 | N9: =Sheet6!$AE$35 -> 0 | O9: =Sheet6!$AF$36 -> 0
A10: 7 | B10: =Sheet7!$Z$10 -> 0 | C10: =Sheet7!$AE$11 -> 0 | D10: =Sheet7!$G$24 -> 0 | E10: =Sheet7!$N$24 -> 0 | F10: =Sheet7!$L$32 -> 0 | G10: =Sheet7!$AF$32 -> 0 | H10: =Sheet7!$L$33 -> 0 | I10: =Sheet7!$AE$33 -> 0 | J10: =Sheet7!L35 -> 0 | K10: =Sheet7!L36 -> 0 | L10: =Sheet7!$O$37 -> 0 | M10: =Sheet7!$L$39 -> 0 | N10: =Sheet7!$AE$35 -> 0 | O10: =Sheet7!$AF$36 -> 0
A11: 8 | B11: =Sheet8!$Z$10 -> 0 | C11: =Sheet8!$AE$11 -> 0 | D11: =Sheet8!$G$24 -> 0 | E11: =Sheet8!$N$24 -> 0 | F11: =Sheet8!$L$32 -> 0 | G11: =Sheet8!$AF$32 -> 0 | H11: =Sheet8!$L$33 -> 0 | I11: =Sheet8!$AE$33 -> 0 | J11: =Sheet8!L35 -> 0 | K11: =Sheet8!L36 -> 0 | L11: =Sheet8!$O$37 -> 0 | M11: =Sheet8!$L$39 -> 0 | N11: =Sheet8!$AE$35 -> 0 | O11: =Sheet8!$AF$36 -> 0
A12: 9 | B12: =Sheet9!$Z$10 -> 0 | C12: =Sheet9!$AE$11 -> 0 | D12: =Sheet9!$G$24 -> 0 | E12: =Sheet9!$N$24 -> 0 | F12: =Sheet9!$L$32 -> 0 | G12: =Sheet9!$AF$32 -> 0 | H12: =Sheet9!$L$33 -> 0 | I12: =Sheet9!$AE$33 -> 0 | J12: =Sheet9!L35 -> 0 | K12: =Sheet9!L36 -> 0 | L12: =Sheet9!$O$37 -> 0 | M12: =Sheet9!$L$39 -> 0 | N12: =Sheet9!$AE$35 -> 0 | O12: =Sheet9!$AF$36 -> 0
A13: 10 | B13: =Sheet10!$Z$10 -> 0 | C13: =Sheet10!$AE$11 -> 0 | D13: =Sheet10!$G$24 -> 0 | E13: =Sheet10!$N$24 -> 0 | F13: =Sheet10!$L$32 -> 0 | G13: =Sheet10!$AF$32 -> 0 | H13: =Sheet10!$L$33 -> 0 | I13: =Sheet10!$AE$33 -> 0 | J13: =Sheet10!L35 -> 0 | K13: =Sheet10!L36 -> 0 | L13: =Sheet10!$O$37 -> 0 | M13: =Sheet10!$L$39 -> 0 | N13: =Sheet10!$AE$35 -> 0 | O13: =Sheet10!$AF$36 -> 0
